BEGIN:VCALENDAR
VERSION:2.0
PRODID:-//eventon.com NONSGML v1.0//EN
BEGIN:VEVENT
UID:69eb6a37597a9
DTSTAMP:20260424T090351
DTSTART:20220115
DTEND:20220123
TZID:America/Montreal
LOCATION:
SUMMARY:Période d'inscription
DESCRIPTION: INSCRIPTION AU SECONDAIRE INSCRIPTION UNIVERSITAIRE &nbsp;\nhttps://energiescolaire.ca/events/inscriptions-2021/
URL:https://energiescolaire.ca/events/inscriptions-2021/
END:VEVENT
END:VCALENDAR