BEGIN:VCALENDAR
VERSION:2.0
PRODID:-//eventon.com NONSGML v1.0//EN
BEGIN:VEVENT
UID:69eb6b341d602
DTSTAMP:20260424T090804
DTSTART:20220217
DTEND:20220317
TZID:America/Montreal
LOCATION:
SUMMARY:Période de sélection
DESCRIPTION: Période de sélection\nhttps://energiescolaire.ca/events/periode-de-selection/
URL:https://energiescolaire.ca/events/periode-de-selection/
END:VEVENT
END:VCALENDAR