BEGIN:VCALENDAR
VERSION:2.0
PRODID:-//eventon.com NONSGML v1.0//EN
BEGIN:VEVENT
UID:69eb6a7eec2f8
DTSTAMP:20260424T090502
DTSTART:20220315
DTEND:20220320
TZID:America/Montreal
LOCATION:
SUMMARY:Divulgation des résultats
DESCRIPTION: Divulgation des résultats\nhttps://energiescolaire.ca/events/divulgation-des-resultats/
URL:https://energiescolaire.ca/events/divulgation-des-resultats/
END:VEVENT
END:VCALENDAR