BEGIN:VCALENDAR
VERSION:2.0
PRODID:-//eventon.com NONSGML v1.0//EN
BEGIN:VEVENT
UID:69eb95235f751
DTSTAMP:20260424T120659
DTSTART:20210908
DTEND:20211012
TZID:America/Montreal
LOCATION:
SUMMARY:Registration period
DESCRIPTION: INSCRIPTION AU SECONDAIRE INSCRIPTION UNIVERSITAIRE &nbsp;\nhttps://energiescolaire.ca/events/inscriptions-2021/
URL:https://energiescolaire.ca/events/inscriptions-2021/
END:VEVENT
END:VCALENDAR