BEGIN:VCALENDAR
VERSION:2.0
PRODID:-//eventon.com NONSGML v1.0//EN
BEGIN:VEVENT
UID:69eb8fbe2490c
DTSTAMP:20260424T114358
DTSTART:20211018
DTEND:20211116
TZID:America/Montreal
LOCATION:
SUMMARY:Selection period
DESCRIPTION: Selection period\nhttps://energiescolaire.ca/events/periode-de-selection/
URL:https://energiescolaire.ca/events/periode-de-selection/
END:VEVENT
END:VCALENDAR