BEGIN:VCALENDAR
VERSION:2.0
PRODID:-//eventon.com NONSGML v1.0//EN
BEGIN:VEVENT
UID:69eb91b0d6a81
DTSTAMP:20260424T115216
DTSTART:20211115
DTEND:20211123
TZID:Pacific/Midway
LOCATION:
SUMMARY:Disclosure of results
DESCRIPTION: Disclosure of results\nhttps://energiescolaire.ca/events/divulgation-des-resultats/
URL:https://energiescolaire.ca/events/divulgation-des-resultats/
END:VEVENT
END:VCALENDAR